BEGIN:VCALENDAR
VERSION:2.0
PRODID:-//Das Improv Festival - ECPv6.10.1.1//NONSGML v1.0//EN
CALSCALE:GREGORIAN
METHOD:PUBLISH
X-ORIGINAL-URL:https://www.2024.dasimprovfestival.com
X-WR-CALDESC:Events for Das Improv Festival
REFRESH-INTERVAL;VALUE=DURATION:PT1H
X-Robots-Tag:noindex
X-PUBLISHED-TTL:PT1H
BEGIN:VTIMEZONE
TZID:Europe/Berlin
BEGIN:DAYLIGHT
TZOFFSETFROM:+0100
TZOFFSETTO:+0200
TZNAME:CEST
DTSTART:20240331T010000
END:DAYLIGHT
BEGIN:STANDARD
TZOFFSETFROM:+0200
TZOFFSETTO:+0100
TZNAME:CET
DTSTART:20241027T010000
END:STANDARD
END:VTIMEZONE
BEGIN:VEVENT
DTSTART;TZID=Europe/Berlin:20241005T230000
DTEND;TZID=Europe/Berlin:20241006T010000
DTSTAMP:20260423T214756
CREATED:20240815T161351Z
LAST-MODIFIED:20240823T101459Z
UID:10000151-1728169200-1728176400@www.2024.dasimprovfestival.com
SUMMARY:Das Party
DESCRIPTION:Everybody get in here\, it’s a PAAAARRRTTTYYY!!! Get ready to shake it out\, boogie down and awkwardly stand in a corner as festival pass holders and performers get together to close out another great festival\, Berlin style! \nOpen to Festival Passholders and performers.
URL:https://www.2024.dasimprovfestival.com/event/party-2/
LOCATION:Comedy Cafe Berlin\, Roseggerstr 17\, Berlin\, Berlin\, 12059\, Germany
CATEGORIES:Show
ATTACH;FMTTYPE=image/jpeg:https://www.2024.dasimprovfestival.com/wp-content/uploads/2024/08/Party.jpg
END:VEVENT
BEGIN:VEVENT
DTSTART;TZID=Europe/Berlin:20241006T100000
DTEND;TZID=Europe/Berlin:20241006T130000
DTSTAMP:20260423T214756
CREATED:20240815T091504Z
LAST-MODIFIED:20240902T071143Z
UID:10000111-1728208800-1728219600@www.2024.dasimprovfestival.com
SUMMARY:Mischief in Improv with Graham Dickson
DESCRIPTION:We all do improv because we like having fun and we like making people laugh (right?!) And we’ve all been in scenes where we seem to be doing all the right things\, following the rules\, but somehow no one is really having fun.  \nThis workshop will help you rediscover a sense of naughtiness and mischief in your play. We will explore what it means to play in a ‘risky’ (but still safe!) space with the audience. We will tap into our inner naughty school child and go beyond the ‘rules’ in order to find playable patterns and games that feel instinctive\, surprising and above all fun.  \nFor experienced (jaded?) improvisers.
URL:https://www.2024.dasimprovfestival.com/event/mischief-in-improv/
LOCATION:Comedy Cafe Berlin\, Roseggerstr 17\, Berlin\, Berlin\, 12059\, Germany
CATEGORIES:Workshop
ATTACH;FMTTYPE=image/jpeg:https://www.2024.dasimprovfestival.com/wp-content/uploads/2024/08/Graham-Dickson.jpg
END:VEVENT
BEGIN:VEVENT
DTSTART;TZID=Europe/Berlin:20241006T100000
DTEND;TZID=Europe/Berlin:20241006T130000
DTSTAMP:20260423T214756
CREATED:20240815T093833Z
LAST-MODIFIED:20240902T082612Z
UID:10000119-1728208800-1728219600@www.2024.dasimprovfestival.com
SUMMARY:I Got Nothing with Erik Tanouye
DESCRIPTION:As much as we want to wait patiently for inspiration to start the scene\, sometimes we just have to step out and get going\, especially near the end of the show.  \nDevelop some habits and philosophies for keeping the momentum going even when your comedic brain is out of gas.
URL:https://www.2024.dasimprovfestival.com/event/i-got-nothing/
LOCATION:Ida Nowhere\, Donaustrasse 79\, Berlin\, Berlin\, 12043\, Germany
CATEGORIES:Workshop
ATTACH;FMTTYPE=image/jpeg:https://www.2024.dasimprovfestival.com/wp-content/uploads/2024/08/Erik-Tanouye.jpg
END:VEVENT
BEGIN:VEVENT
DTSTART;TZID=Europe/Berlin:20241006T133000
DTEND;TZID=Europe/Berlin:20241006T163000
DTSTAMP:20260423T214756
CREATED:20240815T093634Z
LAST-MODIFIED:20240903T085216Z
UID:10000118-1728221400-1728232200@www.2024.dasimprovfestival.com
SUMMARY:Emotional Resonance in Improv with Kris Wiener
DESCRIPTION:Long form improv can get very heady… what is the next game move? How do I heighten? Will my scene partner know the reference I’m about to make? But often the best choice\, the most truthful choice\, is an emotional one rooted in the character relationship already on stage.  \nThis workshop will focus on communication that is often unspoken in scenes— how your character feels\, how your scene partner feels\, and what magic exists when those collide. \nOpen to intermediate to advanced improvisers.
URL:https://www.2024.dasimprovfestival.com/event/emotional-resonance-in-improv/
LOCATION:Ida Nowhere\, Donaustrasse 79\, Berlin\, Berlin\, 12043\, Germany
CATEGORIES:Workshop
ATTACH;FMTTYPE=image/jpeg:https://www.2024.dasimprovfestival.com/wp-content/uploads/2024/08/Kris-Wiener.jpg
END:VEVENT
BEGIN:VEVENT
DTSTART;TZID=Europe/Berlin:20241006T133000
DTEND;TZID=Europe/Berlin:20241006T163000
DTSTAMP:20260423T214756
CREATED:20240815T094235Z
LAST-MODIFIED:20241005T130905Z
UID:10000121-1728221400-1728232200@www.2024.dasimprovfestival.com
SUMMARY:Musical Improv Bells and Whistles with Ashley Ward
DESCRIPTION:The first rule of any style of improv is: have fun! And it’s even more so with musical improv. In this workshop\, we’ll take the pressure off and simply focus on things that make things more fun and exciting for performers and audience alike. We’ll explore using emotion to motivate songs; harmonizing to give the music more depth; fun backline support like dancing and providing a chorus\, as well as simple tools to improve lyrics and melody lines. \nAccompaniment by Zach Marsh. \nOpen to intermediate to advanced long form improvisers with musical improv experience.
URL:https://www.2024.dasimprovfestival.com/event/musical-improv-bells-and-whistles/
LOCATION:Comedy Cafe Berlin\, Roseggerstr 17\, Berlin\, Berlin\, 12059\, Germany
CATEGORIES:Workshop
ATTACH;FMTTYPE=image/jpeg:https://www.2024.dasimprovfestival.com/wp-content/uploads/2024/08/Ashley-Ward.jpg
END:VEVENT
BEGIN:VEVENT
DTSTART;TZID=Europe/Berlin:20241006T180000
DTEND;TZID=Europe/Berlin:20241006T190000
DTSTAMP:20260423T214756
CREATED:20240815T161511Z
LAST-MODIFIED:20240823T094657Z
UID:10000156-1728237600-1728241200@www.2024.dasimprovfestival.com
SUMMARY:Tales Held Dear
DESCRIPTION:Grab your foam sword\, strap on your pointy ears\, and get ready to delve into the world of Berlinia for an epic fantasy quest\, as suggested by you\, the audience!
URL:https://www.2024.dasimprovfestival.com/event/tales-held-dear-2/
LOCATION:Comedy Cafe Berlin\, Roseggerstr 17\, Berlin\, Berlin\, 12059\, Germany
CATEGORIES:Show
ATTACH;FMTTYPE=image/jpeg:https://www.2024.dasimprovfestival.com/wp-content/uploads/2024/08/Tales-Held-Dear.jpg
END:VEVENT
BEGIN:VEVENT
DTSTART;TZID=Europe/Berlin:20241006T191500
DTEND;TZID=Europe/Berlin:20241006T201500
DTSTAMP:20260423T214756
CREATED:20240815T161511Z
LAST-MODIFIED:20240823T142839Z
UID:10000157-1728242100-1728245700@www.2024.dasimprovfestival.com
SUMMARY:Truthpaste / Kolliflower
DESCRIPTION:A local indie team asks you to say “aaaahhhhhh”\, followed by a multi-character monoscene from a Glaswegian duo.
URL:https://www.2024.dasimprovfestival.com/event/truthpaste-kolliflower/
LOCATION:Comedy Cafe Berlin\, Roseggerstr 17\, Berlin\, Berlin\, 12059\, Germany
CATEGORIES:Show
ATTACH;FMTTYPE=image/jpeg:https://www.2024.dasimprovfestival.com/wp-content/uploads/2024/08/Truthpaste-Kolliflower.jpg
END:VEVENT
BEGIN:VEVENT
DTSTART;TZID=Europe/Berlin:20241006T203000
DTEND;TZID=Europe/Berlin:20241006T213000
DTSTAMP:20260423T214756
CREATED:20240815T161525Z
LAST-MODIFIED:20240823T101527Z
UID:10000158-1728246600-1728250200@www.2024.dasimprovfestival.com
SUMMARY:FINAL SHOW
DESCRIPTION:It’s the final show featuring people and teams from across the festival! Don’t miss this chance to come together one last time as we close the festival and wring out those final drops of improv from the Das Improv Festival hosts\, headliners and teams.
URL:https://www.2024.dasimprovfestival.com/event/final-show-2/
LOCATION:Comedy Cafe Berlin\, Roseggerstr 17\, Berlin\, Berlin\, 12059\, Germany
CATEGORIES:Show
ATTACH;FMTTYPE=image/jpeg:https://www.2024.dasimprovfestival.com/wp-content/uploads/2024/08/Final-Show.jpg
END:VEVENT
END:VCALENDAR