BEGIN:VCALENDAR
VERSION:2.0
PRODID:-//Das Improv Festival - ECPv6.10.1.1//NONSGML v1.0//EN
CALSCALE:GREGORIAN
METHOD:PUBLISH
X-ORIGINAL-URL:https://www.2024.dasimprovfestival.com
X-WR-CALDESC:Events for Das Improv Festival
REFRESH-INTERVAL;VALUE=DURATION:PT1H
X-Robots-Tag:noindex
X-PUBLISHED-TTL:PT1H
BEGIN:VTIMEZONE
TZID:Europe/Berlin
BEGIN:DAYLIGHT
TZOFFSETFROM:+0100
TZOFFSETTO:+0200
TZNAME:CEST
DTSTART:20240331T010000
END:DAYLIGHT
BEGIN:STANDARD
TZOFFSETFROM:+0200
TZOFFSETTO:+0100
TZNAME:CET
DTSTART:20241027T010000
END:STANDARD
END:VTIMEZONE
BEGIN:VEVENT
DTSTART;TZID=Europe/Berlin:20241003T214500
DTEND;TZID=Europe/Berlin:20241003T224500
DTSTAMP:20260423T211026
CREATED:20240815T161305Z
LAST-MODIFIED:20240824T204652Z
UID:10000134-1727991900-1727995500@www.2024.dasimprovfestival.com
SUMMARY:birds
DESCRIPTION:birds is a narrative musical improv group starring Ross Bryant\, John Hartman and Ashley Ward with Zach Marsh on keys.
URL:https://www.2024.dasimprovfestival.com/event/birds/
LOCATION:Comedy Cafe Berlin\, Roseggerstr 17\, Berlin\, Berlin\, 12059\, Germany
CATEGORIES:Show
ATTACH;FMTTYPE=image/jpeg:https://www.2024.dasimprovfestival.com/wp-content/uploads/2024/08/birds.jpg
END:VEVENT
BEGIN:VEVENT
DTSTART;TZID=Europe/Berlin:20241003T203000
DTEND;TZID=Europe/Berlin:20241003T213000
DTSTAMP:20260423T211026
CREATED:20240815T161305Z
LAST-MODIFIED:20240823T100907Z
UID:10000133-1727987400-1727991000@www.2024.dasimprovfestival.com
SUMMARY:Turtle Logic / Fluff
DESCRIPTION:Recent CCB cage match champions and a London team that combines drama with “absurdly stupid comedy”.
URL:https://www.2024.dasimprovfestival.com/event/turtle-logic-fluff/
LOCATION:Comedy Cafe Berlin\, Roseggerstr 17\, Berlin\, Berlin\, 12059\, Germany
CATEGORIES:Show
ATTACH;FMTTYPE=image/jpeg:https://www.2024.dasimprovfestival.com/wp-content/uploads/2024/08/Turtle-Fluff.jpg
END:VEVENT
BEGIN:VEVENT
DTSTART;TZID=Europe/Berlin:20241003T191500
DTEND;TZID=Europe/Berlin:20241003T201500
DTSTAMP:20260423T211026
CREATED:20240815T161304Z
LAST-MODIFIED:20240818T174937Z
UID:10000132-1727982900-1727986500@www.2024.dasimprovfestival.com
SUMMARY:Thunderclap! / Modern Family - an improvised mockumentary (Gbgimpro)
DESCRIPTION:A CCB House Team thunders on stage\, followed by Gbgimpro from Sweden improvising a sitcom.
URL:https://www.2024.dasimprovfestival.com/event/thunderclap-gbgimpro/
LOCATION:Comedy Cafe Berlin\, Roseggerstr 17\, Berlin\, Berlin\, 12059\, Germany
CATEGORIES:Show
ATTACH;FMTTYPE=image/jpeg:https://www.2024.dasimprovfestival.com/wp-content/uploads/2024/08/Thunderclap-GBG.jpg
END:VEVENT
BEGIN:VEVENT
DTSTART;TZID=Europe/Berlin:20241003T180000
DTEND;TZID=Europe/Berlin:20241003T190000
DTSTAMP:20260423T211026
CREATED:20240815T161304Z
LAST-MODIFIED:20240823T142430Z
UID:10000131-1727978400-1727982000@www.2024.dasimprovfestival.com
SUMMARY:Mum's Gone to Iceland / Bloodthirsty
DESCRIPTION:Two marquee indie teams that perform regularly on the CCB stage head up this double bill.
URL:https://www.2024.dasimprovfestival.com/event/mums-gone-to-iceland-bloodthirsty/
LOCATION:Comedy Cafe Berlin\, Roseggerstr 17\, Berlin\, Berlin\, 12059\, Germany
CATEGORIES:Show
ATTACH;FMTTYPE=image/jpeg:https://www.2024.dasimprovfestival.com/wp-content/uploads/2024/08/Mums-Bloodthirsty.jpg
END:VEVENT
BEGIN:VEVENT
DTSTART;TZID=Europe/Berlin:20241003T133000
DTEND;TZID=Europe/Berlin:20241003T163000
DTSTAMP:20260423T211026
CREATED:20240815T100255Z
LAST-MODIFIED:20240917T204541Z
UID:10000126-1727962200-1727973000@www.2024.dasimprovfestival.com
SUMMARY:Foundations for Musical Narrative with Ross Bryant
DESCRIPTION:This workshop is focused on the opening and the first two scenes after it to establish a strong foundation for a musical narrative. Accompanied by Zach Marsh. \nOpen to intermediate to advanced long form improvisers with musical improv experience.
URL:https://www.2024.dasimprovfestival.com/event/foundations-for-musical-narrative/
LOCATION:Comedy Cafe Berlin\, Roseggerstr 17\, Berlin\, Berlin\, 12059\, Germany
CATEGORIES:Workshop
ATTACH;FMTTYPE=image/jpeg:https://www.2024.dasimprovfestival.com/wp-content/uploads/2024/08/Ross-Bryant.jpg
END:VEVENT
BEGIN:VEVENT
DTSTART;TZID=Europe/Berlin:20241003T133000
DTEND;TZID=Europe/Berlin:20241003T163000
DTSTAMP:20260423T211026
CREATED:20240815T093403Z
LAST-MODIFIED:20240902T161550Z
UID:10000117-1727962200-1727973000@www.2024.dasimprovfestival.com
SUMMARY:Trusting Realistic Object Work with Kris Wiener
DESCRIPTION:How many improv scenes are just two people standing and talking to each other? But how often is that how people actually interact?  \nThis will be a workshop to practice object work and believable miming. We want to trust the silliness of making and eating an invisible salad while having a completely unrelated conversation with your scene partner.
URL:https://www.2024.dasimprovfestival.com/event/trusting-realistic-object-work/
LOCATION:Ida Nowhere\, Donaustrasse 79\, Berlin\, Berlin\, 12043\, Germany
CATEGORIES:Workshop
ATTACH;FMTTYPE=image/jpeg:https://www.2024.dasimprovfestival.com/wp-content/uploads/2024/08/Kris-Wiener.jpg
END:VEVENT
BEGIN:VEVENT
DTSTART;TZID=Europe/Berlin:20241003T100000
DTEND;TZID=Europe/Berlin:20241003T130000
DTSTAMP:20260423T211026
CREATED:20240815T093132Z
LAST-MODIFIED:20240902T071840Z
UID:10000116-1727949600-1727960400@www.2024.dasimprovfestival.com
SUMMARY:The Still\, Small Voice with Matt Cutler
DESCRIPTION:You shouldn’t need to be loud to have a big impact on a scene.  \nIn this workshop\, we’ll learn how to make choices that are small but mighty. We’ll also learn how to make space for those moves\, and how to amplify their power.
URL:https://www.2024.dasimprovfestival.com/event/the-still-small-voice/
LOCATION:Ida Nowhere\, Donaustrasse 79\, Berlin\, Berlin\, 12043\, Germany
CATEGORIES:Workshop
ATTACH;FMTTYPE=image/jpeg:https://www.2024.dasimprovfestival.com/wp-content/uploads/2024/08/Matt-Cutler.jpg
END:VEVENT
BEGIN:VEVENT
DTSTART;TZID=Europe/Berlin:20241003T100000
DTEND;TZID=Europe/Berlin:20241003T130000
DTSTAMP:20260423T211026
CREATED:20240815T092755Z
LAST-MODIFIED:20240902T173338Z
UID:10000115-1727949600-1727960400@www.2024.dasimprovfestival.com
SUMMARY:Not Being Funny with Alex Holland
DESCRIPTION:Everyone wants to know how to be funnier on stage. But the truth is that often what’s going to help the most is to get better at not being funny.  \nIn this workshop we’ll almost exclusively look at the ‘not being funny’ part of the scene. In fact\, if you make me laugh in this workshop\, then you’re doing it wrong and I’ll get mad*! You’re already great at getting laughs\, so now you’ll learn not to try too hard to get the funnies out\, to invest in what’s really going on in the scene\, and to trust that you’ll get back to the comedy when the time’s right.
URL:https://www.2024.dasimprovfestival.com/event/not-being-funny/
LOCATION:Comedy Cafe Berlin\, Roseggerstr 17\, Berlin\, Berlin\, 12059\, Germany
CATEGORIES:Workshop
ATTACH;FMTTYPE=image/jpeg:https://www.2024.dasimprovfestival.com/wp-content/uploads/2024/08/Alex-Holland.jpg
END:VEVENT
BEGIN:VEVENT
DTSTART;TZID=Europe/Berlin:20241002T214500
DTEND;TZID=Europe/Berlin:20241003T000000
DTSTAMP:20260423T211026
CREATED:20240815T161303Z
LAST-MODIFIED:20240823T101009Z
UID:10000130-1727905500-1727913600@www.2024.dasimprovfestival.com
SUMMARY:Das Jam
DESCRIPTION:A festival favorite – our opening night jam where everyone can play!
URL:https://www.2024.dasimprovfestival.com/event/jam/
LOCATION:Comedy Cafe Berlin\, Roseggerstr 17\, Berlin\, Berlin\, 12059\, Germany
CATEGORIES:Show
ATTACH;FMTTYPE=image/jpeg:https://www.2024.dasimprovfestival.com/wp-content/uploads/2024/08/Jam.jpg
END:VEVENT
BEGIN:VEVENT
DTSTART;TZID=Europe/Berlin:20241002T203000
DTEND;TZID=Europe/Berlin:20241002T213000
DTSTAMP:20260423T211026
CREATED:20240815T161303Z
LAST-MODIFIED:20240823T142352Z
UID:10000129-1727901000-1727904600@www.2024.dasimprovfestival.com
SUMMARY:Action Jackson / Improñol
DESCRIPTION:One of Berlin’s longest running indie teams and a dynamic bilingual duo from Chicago.
URL:https://www.2024.dasimprovfestival.com/event/action-jackson-impronol/
LOCATION:Comedy Cafe Berlin\, Roseggerstr 17\, Berlin\, Berlin\, 12059\, Germany
CATEGORIES:Show
ATTACH;FMTTYPE=image/jpeg:https://www.2024.dasimprovfestival.com/wp-content/uploads/2024/08/Action-Impronol.jpg
END:VEVENT
BEGIN:VEVENT
DTSTART;TZID=Europe/Berlin:20241002T191500
DTEND;TZID=Europe/Berlin:20241002T201500
DTSTAMP:20260423T211026
CREATED:20240815T161303Z
LAST-MODIFIED:20240823T101115Z
UID:10000128-1727896500-1727900100@www.2024.dasimprovfestival.com
SUMMARY:Brace! Brace! / SOS - Save our scene!
DESCRIPTION:Comedy Café Berlin’s latest House Team join a Swedish powerhouse quartet to kick off Das 2024!
URL:https://www.2024.dasimprovfestival.com/event/brace-brace-sos-save-our-scene/
LOCATION:Comedy Cafe Berlin\, Roseggerstr 17\, Berlin\, Berlin\, 12059\, Germany
CATEGORIES:Show
ATTACH;FMTTYPE=image/jpeg:https://www.2024.dasimprovfestival.com/wp-content/uploads/2024/08/Brace-SOS.jpg
END:VEVENT
BEGIN:VEVENT
DTSTART;TZID=Europe/Berlin:20241002T133000
DTEND;TZID=Europe/Berlin:20241002T163000
DTSTAMP:20260423T211026
CREATED:20240815T092313Z
LAST-MODIFIED:20240905T083510Z
UID:10000113-1727875800-1727886600@www.2024.dasimprovfestival.com
SUMMARY:Playful Voice of Reason with Naomi Petersen
DESCRIPTION:Voice of reason is often misrepresented as the ‘boring’ part of the scene. Oh\, It’s a vital role that allows us to frame and play game whilst keeping the baseline reality in check? Eurgh\, fine! I’ll do it but I’m not happy about it. “I don’t want to have to eat my vegetables” etc.\nIn this workshop we’ll dig into the VoR and look at how much fun you can have in this role. We’ll practise how to play grounded without being ‘boring’\, how to say no whilst being a part of the fun\, and ask ourselves whether the VoR is even a ‘role’ at all.  \nOpen to intermediate to advanced improvisers.
URL:https://www.2024.dasimprovfestival.com/event/playful-voice-of-reason/
LOCATION:Comedy Cafe Berlin\, Roseggerstr 17\, Berlin\, Berlin\, 12059\, Germany
CATEGORIES:Workshop
ATTACH;FMTTYPE=image/jpeg:https://www.2024.dasimprovfestival.com/wp-content/uploads/2024/08/Naomi-Petersen.jpg
END:VEVENT
BEGIN:VEVENT
DTSTART;TZID=Europe/Berlin:20241002T100000
DTEND;TZID=Europe/Berlin:20241002T130000
DTSTAMP:20260423T211026
CREATED:20240815T095359Z
LAST-MODIFIED:20240902T071217Z
UID:10000122-1727863200-1727874000@www.2024.dasimprovfestival.com
SUMMARY:Two Prov with Ashley Ward
DESCRIPTION:Two Prov can be fun and rewarding but also taxing. With just two people on stage how do you identify points to edit while still being in the scene? How do you bring characters back into scenes when they were first played by your scene partner and not you? And how do you build a stage picture that keys the audience in to location and scene changes when it is always the same two people on stage? \nThis twoprov workshop from Ashley Ward\, who often performs twoprov with her husband\, will help you on the way to performing dynamic scenes that play to your strengths.  \nOpen to intermediate to advanced improvisers. If you’d like to register with a partner\, we recommend one of you register both participants at once.
URL:https://www.2024.dasimprovfestival.com/event/two-prov/
LOCATION:Comedy Cafe Berlin\, Roseggerstr 17\, Berlin\, Berlin\, 12059\, Germany
CATEGORIES:Workshop
ATTACH;FMTTYPE=image/jpeg:https://www.2024.dasimprovfestival.com/wp-content/uploads/2024/08/Ashley-Ward.jpg
END:VEVENT
END:VCALENDAR