BEGIN:VCALENDAR
VERSION:2.0
PRODID:-//Das Improv Festival - ECPv6.10.1.1//NONSGML v1.0//EN
CALSCALE:GREGORIAN
METHOD:PUBLISH
X-WR-CALNAME:Das Improv Festival
X-ORIGINAL-URL:https://www.2024.dasimprovfestival.com
X-WR-CALDESC:Events for Das Improv Festival
REFRESH-INTERVAL;VALUE=DURATION:PT1H
X-Robots-Tag:noindex
X-PUBLISHED-TTL:PT1H
BEGIN:VTIMEZONE
TZID:Europe/Berlin
BEGIN:DAYLIGHT
TZOFFSETFROM:+0100
TZOFFSETTO:+0200
TZNAME:CEST
DTSTART:20240331T010000
END:DAYLIGHT
BEGIN:STANDARD
TZOFFSETFROM:+0200
TZOFFSETTO:+0100
TZNAME:CET
DTSTART:20241027T010000
END:STANDARD
END:VTIMEZONE
BEGIN:VEVENT
DTSTART;TZID=Europe/Berlin:20241004T100000
DTEND;TZID=Europe/Berlin:20241004T130000
DTSTAMP:20260423T165917
CREATED:20240815T091902Z
LAST-MODIFIED:20240902T090137Z
UID:10000112-1728036000-1728046800@www.2024.dasimprovfestival.com
SUMMARY:Back from the Brink with Naomi Petersen
DESCRIPTION:Ever been on stage and felt like your show was tanking? Of course you have! Everyone has bad days\, whether you’re ten minutes or ten years into your improv journey. In fact\, bombing on stage is a rite of passage for every improviser. And listen\, I don’t want to take that away from you\, because fundamentally it will make you a better performer. But it’s never too late to turn things around.\nIn this workshop we’ll explore how you can bring your shows back from the brink through teamwork\, trust and commitment. No cheap tricks or short-cuts;  just confident\, connected improv that will make you fall in love with your show again and bring your audience along for the ride.
URL:https://www.2024.dasimprovfestival.com/event/back-from-the-brink/
LOCATION:Ida Nowhere\, Donaustrasse 79\, Berlin\, Berlin\, 12043\, Germany
CATEGORIES:Workshop
ATTACH;FMTTYPE=image/jpeg:https://www.2024.dasimprovfestival.com/wp-content/uploads/2024/08/Naomi-Petersen.jpg
END:VEVENT
BEGIN:VEVENT
DTSTART;TZID=Europe/Berlin:20241004T100000
DTEND;TZID=Europe/Berlin:20241004T130000
DTSTAMP:20260423T165917
CREATED:20240815T092444Z
LAST-MODIFIED:20240903T085255Z
UID:10000114-1728036000-1728046800@www.2024.dasimprovfestival.com
SUMMARY:The Improv Free Form with Alex Holland
DESCRIPTION:It’s easy to get into a set formula when performing improv formats and lose the exciting feeling that anything can happen.  \nIn this workshop we’ll look at getting into a flow when performing as a group and incorporating everything that happens into how you play. We’ll be generating warm-ups and exercises ourselves\, using them to inspire scenes\, and transitioning from one to the other to create something that’s part warm-up\, part group-game\, part scene\, part show\, and everything in between.  \nThe goal of the workshop is to foster a sense of total support\, where you embrace everything that happens\, incorporating it not just into your scene but into the grammar and structure of your performance. \nOpen to intermediate to advanced improvisers.
URL:https://www.2024.dasimprovfestival.com/event/the-improv-free-form/
LOCATION:Comedy Cafe Berlin\, Roseggerstr 17\, Berlin\, Berlin\, 12059\, Germany
CATEGORIES:Workshop
ATTACH;FMTTYPE=image/jpeg:https://www.2024.dasimprovfestival.com/wp-content/uploads/2024/08/Alex-Holland.jpg
END:VEVENT
BEGIN:VEVENT
DTSTART;TZID=Europe/Berlin:20241004T133000
DTEND;TZID=Europe/Berlin:20241004T163000
DTSTAMP:20260423T165917
CREATED:20240815T100016Z
LAST-MODIFIED:20240917T132346Z
UID:10000125-1728048600-1728059400@www.2024.dasimprovfestival.com
SUMMARY:Yes Yes Y'all (A Freestyle Rap Workshop) with Ross Bryant
DESCRIPTION:Rhyming off the top of your head can be the most intimidating part of improvising musically\, but with practice you can get out of your head and find your flow.  \nEven if you’re a novice\, this workshop will get you up and rapping in minutes. \nOpen to intermediate to advanced long form improvisers.
URL:https://www.2024.dasimprovfestival.com/event/yes-yes-yall-a-freestyle-rap-workshop/
LOCATION:Ida Nowhere\, Donaustrasse 79\, Berlin\, Berlin\, 12043\, Germany
CATEGORIES:Workshop
ATTACH;FMTTYPE=image/jpeg:https://www.2024.dasimprovfestival.com/wp-content/uploads/2024/08/Ross-Bryant.jpg
END:VEVENT
BEGIN:VEVENT
DTSTART;TZID=Europe/Berlin:20241004T133000
DTEND;TZID=Europe/Berlin:20241004T163000
DTSTAMP:20260423T165917
CREATED:20240918T130051Z
LAST-MODIFIED:20240919T135231Z
UID:10000160-1728048600-1728059400@www.2024.dasimprovfestival.com
SUMMARY:I'm Obsessed With You with Graham Dickson (Friday)
DESCRIPTION:The connection you have with your scene partner will define the success of your scene.  \nIn this workshop I’ll try to convince you that everything you need for a successful scene is the faith and love that you have for your partner(s). We will be militant in our observations of them to discover offers we might miss otherwise. We’ll get out of our heads by putting all of our attention on them. We’ll devote ourselves to saying yes to their offers\, even when it seems scary or illogical\, and learn to relinquish control over where the scene is heading by placing our trust in them. We will obsess over being obsessed with them.
URL:https://www.2024.dasimprovfestival.com/event/im-obsessed-with-you-with-graham-dickson-friday/
LOCATION:Comedy Cafe Berlin\, Roseggerstr 17\, Berlin\, Berlin\, 12059\, Germany
CATEGORIES:Workshop
ATTACH;FMTTYPE=image/jpeg:https://www.2024.dasimprovfestival.com/wp-content/uploads/2024/08/Graham-Dickson.jpg
END:VEVENT
BEGIN:VEVENT
DTSTART;TZID=Europe/Berlin:20241004T180000
DTEND;TZID=Europe/Berlin:20241004T190000
DTSTAMP:20260423T165917
CREATED:20240815T161306Z
LAST-MODIFIED:20240823T142503Z
UID:10000137-1728064800-1728068400@www.2024.dasimprovfestival.com
SUMMARY:Terminal Velocity / The Bullfish Paradox / Panic Snooze
DESCRIPTION:A triple threat of CCB indie teams.
URL:https://www.2024.dasimprovfestival.com/event/terminal-velocity-the-bullfish-paradox-panic-snooze/
LOCATION:Comedy Cafe Berlin\, Roseggerstr 17\, Berlin\, Berlin\, 12059\, Germany
CATEGORIES:Show
ATTACH;FMTTYPE=image/jpeg:https://www.2024.dasimprovfestival.com/wp-content/uploads/2024/08/Terminal-Bullfish-Panic.jpg
END:VEVENT
BEGIN:VEVENT
DTSTART;TZID=Europe/Berlin:20241004T180000
DTEND;TZID=Europe/Berlin:20241004T190000
DTSTAMP:20260423T165917
CREATED:20240815T161335Z
LAST-MODIFIED:20240823T142513Z
UID:10000143-1728064800-1728068400@www.2024.dasimprovfestival.com
SUMMARY:All-in-Therapy / Ovuladies
DESCRIPTION:All-in-Therapy invites you to take a seat as they overshare then CCB Cage Match runners-up Ovuladies will unleash their mayhem.
URL:https://www.2024.dasimprovfestival.com/event/all-in-therapy-slackers/
LOCATION:Ida Nowhere\, Donaustrasse 79\, Berlin\, Berlin\, 12043\, Germany
CATEGORIES:Show
ATTACH;FMTTYPE=image/jpeg:https://www.2024.dasimprovfestival.com/wp-content/uploads/2024/08/All-in-Ovuladies.jpg
END:VEVENT
BEGIN:VEVENT
DTSTART;TZID=Europe/Berlin:20241004T191500
DTEND;TZID=Europe/Berlin:20241004T201500
DTSTAMP:20260423T165917
CREATED:20240815T161321Z
LAST-MODIFIED:20240920T083458Z
UID:10000138-1728069300-1728072900@www.2024.dasimprovfestival.com
SUMMARY:Pizza Studio / True Stories Told Wrong (Sunday Morning)
DESCRIPTION:CCB’s most delicious House Team is followed by True Stories Told Wrong by Canadian team Sunday Morning.
URL:https://www.2024.dasimprovfestival.com/event/pizza-studio-sunday-morning/
LOCATION:Comedy Cafe Berlin\, Roseggerstr 17\, Berlin\, Berlin\, 12059\, Germany
CATEGORIES:Show
ATTACH;FMTTYPE=image/jpeg:https://www.2024.dasimprovfestival.com/wp-content/uploads/2024/08/Pizza-Sunday.jpg
END:VEVENT
BEGIN:VEVENT
DTSTART;TZID=Europe/Berlin:20241004T191500
DTEND;TZID=Europe/Berlin:20241004T201500
DTSTAMP:20260423T165917
CREATED:20240815T161336Z
LAST-MODIFIED:20240823T142538Z
UID:10000144-1728069300-1728072900@www.2024.dasimprovfestival.com
SUMMARY:Wet Teeth / Loo-Prov!
DESCRIPTION:Don’t be grossed out\, Berlin indie team Wet Teeth and London’s Loo-Prov will improvise the hell out of this show.
URL:https://www.2024.dasimprovfestival.com/event/wet-teeth-loo-prov/
LOCATION:Ida Nowhere\, Donaustrasse 79\, Berlin\, Berlin\, 12043\, Germany
CATEGORIES:Show
ATTACH;FMTTYPE=image/jpeg:https://www.2024.dasimprovfestival.com/wp-content/uploads/2024/08/Wet-Loo-prov.jpg
END:VEVENT
BEGIN:VEVENT
DTSTART;TZID=Europe/Berlin:20241004T203000
DTEND;TZID=Europe/Berlin:20241004T213000
DTSTAMP:20260423T165917
CREATED:20240815T161321Z
LAST-MODIFIED:20240823T142548Z
UID:10000139-1728073800-1728077400@www.2024.dasimprovfestival.com
SUMMARY:Haircut / Hot Pursuits (SuperCut)
DESCRIPTION:A super sharp Berlin indie team pursued by an equally sharp Danish team in this double header.
URL:https://www.2024.dasimprovfestival.com/event/haircut-supercut/
LOCATION:Comedy Cafe Berlin\, Roseggerstr 17\, Berlin\, Berlin\, 12059\, Germany
CATEGORIES:Show
ATTACH;FMTTYPE=image/jpeg:https://www.2024.dasimprovfestival.com/wp-content/uploads/2024/08/Haircut-SuperCut.jpg
END:VEVENT
BEGIN:VEVENT
DTSTART;TZID=Europe/Berlin:20241004T203000
DTEND;TZID=Europe/Berlin:20241004T213000
DTSTAMP:20260423T165917
CREATED:20240815T161336Z
LAST-MODIFIED:20240823T142607Z
UID:10000145-1728073800-1728077400@www.2024.dasimprovfestival.com
SUMMARY:Great Grandkids! / Destiny's Stepchild
DESCRIPTION:Berlin darlings Great Grandkids make a triumphant return after a 7 year hiatus\, joined by one of Berlin’s latest indie superstars.
URL:https://www.2024.dasimprovfestival.com/event/great-grandkids-destinys-stepchild/
LOCATION:Ida Nowhere\, Donaustrasse 79\, Berlin\, Berlin\, 12043\, Germany
CATEGORIES:Show
ATTACH;FMTTYPE=image/jpeg:https://www.2024.dasimprovfestival.com/wp-content/uploads/2024/08/Grandkids-Destinys.jpg
END:VEVENT
BEGIN:VEVENT
DTSTART;TZID=Europe/Berlin:20241004T214500
DTEND;TZID=Europe/Berlin:20241004T224500
DTSTAMP:20260423T165917
CREATED:20240815T161321Z
LAST-MODIFIED:20240823T142615Z
UID:10000140-1728078300-1728081900@www.2024.dasimprovfestival.com
SUMMARY:This Doesn't Leave the Room
DESCRIPTION:A scandalously fun night of daring\, confessional improv comedy. This critically acclaimed\, sell-out show from the Free Association brings together an all-star team of improvisers and mega-watt guests for a night of scintillating\, salacious improv. Every show is inspired by confessions\, secrets and the hottest goss from our live audience and very special guests. Previous guests have included Jamie Laing\, Tatty Macleod\, Phil Wang and Ania Magliano.
URL:https://www.2024.dasimprovfestival.com/event/this-doesnt-leave-the-room/
LOCATION:Comedy Cafe Berlin\, Roseggerstr 17\, Berlin\, Berlin\, 12059\, Germany
CATEGORIES:Show
ATTACH;FMTTYPE=image/jpeg:https://www.2024.dasimprovfestival.com/wp-content/uploads/2024/08/TDLTR.jpg
END:VEVENT
BEGIN:VEVENT
DTSTART;TZID=Europe/Berlin:20241004T214500
DTEND;TZID=Europe/Berlin:20241004T224500
DTSTAMP:20260423T165917
CREATED:20240815T161336Z
LAST-MODIFIED:20240823T142622Z
UID:10000146-1728078300-1728081900@www.2024.dasimprovfestival.com
SUMMARY:Storks / The Marbelles
DESCRIPTION:Headliners birds transforms to Storks for a non-musical set\, then Berlin’s The Marbelles showcase their unique improv stylings.
URL:https://www.2024.dasimprovfestival.com/event/storks-the-marbelles/
LOCATION:Ida Nowhere\, Donaustrasse 79\, Berlin\, Berlin\, 12043\, Germany
CATEGORIES:Show
ATTACH;FMTTYPE=image/jpeg:https://www.2024.dasimprovfestival.com/wp-content/uploads/2024/08/Storks-Marbelles.jpg
END:VEVENT
BEGIN:VEVENT
DTSTART;TZID=Europe/Berlin:20241004T230000
DTEND;TZID=Europe/Berlin:20241005T000000
DTSTAMP:20260423T165917
CREATED:20240815T161321Z
LAST-MODIFIED:20240823T142630Z
UID:10000141-1728082800-1728086400@www.2024.dasimprovfestival.com
SUMMARY:Bear Milk / Drunk Theatre Company
DESCRIPTION:Get Drunk on Milk! Berlin’s powerhouse indie team Bear Milk meets the mayhem that is LA’s Drunk Theatre Company.
URL:https://www.2024.dasimprovfestival.com/event/bear-milk-drunk-theatre-company/
LOCATION:Comedy Cafe Berlin\, Roseggerstr 17\, Berlin\, Berlin\, 12059\, Germany
CATEGORIES:Show
ATTACH;FMTTYPE=image/jpeg:https://www.2024.dasimprovfestival.com/wp-content/uploads/2024/08/Bearmilk-Drunk.jpg
END:VEVENT
BEGIN:VEVENT
DTSTART;TZID=Europe/Berlin:20241004T235900
DTEND;TZID=Europe/Berlin:20241005T010000
DTSTAMP:20260423T165917
CREATED:20240815T161321Z
LAST-MODIFIED:20241002T222452Z
UID:10000142-1728086340-1728090000@www.2024.dasimprovfestival.com
SUMMARY:The Improvised Stand Up Show
DESCRIPTION:Das improvisers take to the mic to present an entirely improvised stand-up set. \nTopics they have never seen before\, that have been prepared by their fellow comedians\, will appear projected behind them and they have to act as if it’s all part of their pre-prepared “tight 5”. \nIt’s a brilliant show where anything can happen. Expect belly-laughs and extreme bombing. Watch these comics squirm! \nHosted by Caroline Clifford and Antonia Bär
URL:https://www.2024.dasimprovfestival.com/event/improvised-stand-up/
LOCATION:Comedy Cafe Berlin\, Roseggerstr 17\, Berlin\, Berlin\, 12059\, Germany
CATEGORIES:Show
ATTACH;FMTTYPE=image/jpeg:https://www.2024.dasimprovfestival.com/wp-content/uploads/2024/08/Improvised-Stand-Up.jpg
END:VEVENT
END:VCALENDAR